BEGIN:VCALENDAR
VERSION:2.0
PRODID:-//Biblioteca Angelica - ECPv6.15.20//NONSGML v1.0//EN
CALSCALE:GREGORIAN
METHOD:PUBLISH
X-ORIGINAL-URL:https://bibliotecaangelica.cultura.gov.it
X-WR-CALDESC:Eventi per Biblioteca Angelica
REFRESH-INTERVAL;VALUE=DURATION:PT1H
X-Robots-Tag:noindex
X-PUBLISHED-TTL:PT1H
BEGIN:VTIMEZONE
TZID:Europe/Rome
BEGIN:DAYLIGHT
TZOFFSETFROM:+0100
TZOFFSETTO:+0200
TZNAME:CEST
DTSTART:20240331T010000
END:DAYLIGHT
BEGIN:STANDARD
TZOFFSETFROM:+0200
TZOFFSETTO:+0100
TZNAME:CET
DTSTART:20241027T010000
END:STANDARD
BEGIN:DAYLIGHT
TZOFFSETFROM:+0100
TZOFFSETTO:+0200
TZNAME:CEST
DTSTART:20250330T010000
END:DAYLIGHT
BEGIN:STANDARD
TZOFFSETFROM:+0200
TZOFFSETTO:+0100
TZNAME:CET
DTSTART:20251026T010000
END:STANDARD
BEGIN:DAYLIGHT
TZOFFSETFROM:+0100
TZOFFSETTO:+0200
TZNAME:CEST
DTSTART:20260329T010000
END:DAYLIGHT
BEGIN:STANDARD
TZOFFSETFROM:+0200
TZOFFSETTO:+0100
TZNAME:CET
DTSTART:20261025T010000
END:STANDARD
BEGIN:DAYLIGHT
TZOFFSETFROM:+0100
TZOFFSETTO:+0200
TZNAME:CEST
DTSTART:20270328T010000
END:DAYLIGHT
BEGIN:STANDARD
TZOFFSETFROM:+0200
TZOFFSETTO:+0100
TZNAME:CET
DTSTART:20271031T010000
END:STANDARD
END:VTIMEZONE
BEGIN:VEVENT
DTSTART;TZID=Europe/Rome:20250211T000000
DTEND;TZID=Europe/Rome:20250518T000000
DTSTAMP:20260423T172807
CREATED:20250902T145158Z
LAST-MODIFIED:20250909T085334Z
UID:254359-1739232000-1747526400@bibliotecaangelica.cultura.gov.it
SUMMARY:I Farnese
DESCRIPTION:L’esposizione\, curata da Chiara Rabbi Bernard e Claudio Parisi Presicce\, è dedicata alla collezione Farnese\, massima espressione del collezionismo erudito\, sostenuto da papa Paolo III (1534-1549) e dai suoi nipoti. La mostra\, allestita ai Musei Capitolini\, Villa Caffarelli\, è organizzata in collaborazione con Civita Mostre e Musei e Zètema Progetto Cultura. \nCentoquaranta capolavori tra sculture antiche\, bronzi\, dipinti\, disegni\, manoscritti\, gemme e monete della più prestigiosa raccolta di opere d’arte e reperti archeologici del Rinascimento si susseguono negli spazi espositivi di Villa Caffarelli\, ai Musei Capitolini. Un progetto scientifico di alto valore e di grande rilevanza nell’ambito dell’anno giubilare racconta la Collezione Farnese ricostruendo il momento del suo massimo splendore\, dai primi decenni del XVI secolo all’inizio del XVII. \nFonte: www.museicapitolini.org
URL:https://bibliotecaangelica.cultura.gov.it/evento/i-farnese/
LOCATION:Musei Capitolini\, Piazza del Campidoglio 1\, Roma\, Roma\, 00186\, Italy
CATEGORIES:Mostre esterne
ATTACH;FMTTYPE=image/webp:https://bibliotecaangelica.cultura.gov.it/wp-content/uploads/2025/09/locandina-mostra-esterna-i-farnese.webp
END:VEVENT
BEGIN:VEVENT
DTSTART;TZID=Europe/Rome:20250404T000000
DTEND;TZID=Europe/Rome:20250713T000000
DTSTAMP:20260423T172807
CREATED:20250902T152507Z
LAST-MODIFIED:20250909T075933Z
UID:254381-1743724800-1752364800@bibliotecaangelica.cultura.gov.it
SUMMARY:Barocco Globale
DESCRIPTION:Una mostra realizzata con la Galleria Borghese di Roma e con la partecipazione e la collaborazione di prestigiose istituzioni e musei nazionali e internazionali. Barocco Globale ci accompagna in un viaggio attraverso una Roma cosmopolita\, al centro di una complessa rete di viaggi e rapporti che trascendono confini nazionali e culturali. L’Africa\, l’America\, l’Asia erano presenze tangibili e visibili nella Roma di questa epoca; opere d’arte di maestri del Barocco come Gian Lorenzo Bernini\, Pietro da Cortona\, Nicolas Poussin\, ci proiettano in un mondo sorprendentemente multietnico e multiculturale\, in cui missionari e diplomatici mettevano in dialogo\, alla corte dei Papi\, il Giappone con la Persia\, il Congo col Nuovo Mondo. \nFonte: scuderiequirinale.it
URL:https://bibliotecaangelica.cultura.gov.it/evento/barocco-globale/
LOCATION:Scuderia del Quirinale\, Via XXIV Maggio 16\, Roma\, Roma\, 00187\, Italy
CATEGORIES:Mostre esterne
ATTACH;FMTTYPE=image/webp:https://bibliotecaangelica.cultura.gov.it/wp-content/uploads/2025/09/BaroccoGlobale_galleriaborghese_mostra_esterna.webp
END:VEVENT
BEGIN:VEVENT
DTSTART;TZID=Europe/Rome:20251121T080000
DTEND;TZID=Europe/Rome:20260412T170000
DTSTAMP:20260423T172807
CREATED:20251121T120253Z
LAST-MODIFIED:20251121T123402Z
UID:256747-1763712000-1776013200@bibliotecaangelica.cultura.gov.it
SUMMARY:Ville e giardini di Roma: una corona di delizie
DESCRIPTION:Dal 21 novembre 2025 il Museo di Roma a Palazzo Braschi apre la mostra Ville e giardini di Roma: una corona di delizie\, un viaggio attraverso cinque secoli di storia e di immaginario che racconta l’evoluzione dei giardini storici romani\, dalle architetture rinascimentali alle trasformazioni del Novecento.\n\n\nLa ricchezza delle quasi centonovanta opere esposte\, molte delle quali poco note o inedite\, offre al pubblico la possibilità di avvicinarsi a luoghi spesso scomparsi o profondamente mutati\, rivelandone l’aspetto originario e la funzione sociale.\n\n\nIl percorso\, articolato in sei sezioni e arricchito da apparati multimediali e immersivi\, permette di comprendere come le ville e i giardini della città siano stati nel tempo spazi di rappresentanza\, creatività\, svago e incontro.\n\n\nIn mostra anche un testo del nostro patrimonio bibliografico!
URL:https://bibliotecaangelica.cultura.gov.it/evento/ville-e-giardini-di-roma-una-corona-di-delizie/
LOCATION:palazzo braschi\, Piazza San Pantaleo\, 10\, Roma\, Italy
CATEGORIES:Mostre esterne
ATTACH;FMTTYPE=image/jpeg:https://bibliotecaangelica.cultura.gov.it/wp-content/uploads/2025/11/corona-delizie.jpg
END:VEVENT
BEGIN:VEVENT
DTSTART;TZID=Europe/Rome:20260320T100000
DTEND;TZID=Europe/Rome:20260419T180000
DTSTAMP:20260423T172807
CREATED:20260325T161010Z
LAST-MODIFIED:20260326T092103Z
UID:257775-1774000800-1776621600@bibliotecaangelica.cultura.gov.it
SUMMARY:Gutenberg a Subiaco
DESCRIPTION:Un evento di straordinario rilievo per la Biblioteca Angelica\, che partecipa a una delle esposizioni più significative dedicate alla nascita della stampa in Italia. L’istituto romano contribuisce con uno dei suoi esemplari più preziosi\, il De Oratore (Subiaco\, 1465)\, tra i primi libri stampati nel nostro Paese. \nL’opera sarà esposta presso la Biblioteca Nazionale del Monumento Nazionale di Santa Scolastica\, all’interno della mostra Gutenberg a Subiaco – I primordi della stampa a caratteri mobili in Italia (1465–1467)\, accanto alla celebre Bibbia delle 42 linee\, realizzata da Johannes Gutenberg a Magonza nel 1455 e concessa in prestito dalla Biblioteca Apostolica Vaticana. \nA completare il percorso espositivo\, insieme al volume custodito dalla Biblioteca Angelica\, saranno presentati anche altri due fondamentali protoincunaboli italiani: il Lattanzio e il De Civitate Dei\, testimoni dei primissimi sviluppi della stampa nel territorio italiano tra il 1465 e il 1467. \nL’iniziativa rappresenta un’importante occasione per valorizzare il patrimonio storico e librario della Biblioteca Angelica\, inserendolo in un contesto di eccezionale rilevanza internazionale e contribuendo alla diffusione della conoscenza delle origini della cultura tipografica in Italia. \nL’esposizione sarà inaugurata venerdì 20 marzo 2026 alle ore 10.30 e sarà aperta al pubblico dal 21 marzo al 19 aprile 2026\, con orario continuato dalle 10.00 alle 18.00.
URL:https://bibliotecaangelica.cultura.gov.it/evento/gutenberg-a-subiaco/
LOCATION:Biblioteca statale del Monumento nazionale di Santa Scolastica\, Piazzale di Santa Scolastica\, snc\, Subiaco\, 00028\, Italy
CATEGORIES:Mostre esterne
ATTACH;FMTTYPE=image/webp:https://bibliotecaangelica.cultura.gov.it/wp-content/uploads/2026/03/654210626_1514732643345867_4430135269923618846_n-2-1.webp
END:VEVENT
END:VCALENDAR