BEGIN:VCALENDAR
VERSION:2.0
PRODID:-//Biblioteca Angelica - ECPv6.15.20//NONSGML v1.0//EN
CALSCALE:GREGORIAN
METHOD:PUBLISH
X-ORIGINAL-URL:https://bibliotecaangelica.cultura.gov.it
X-WR-CALDESC:Eventi per Biblioteca Angelica
REFRESH-INTERVAL;VALUE=DURATION:PT1H
X-Robots-Tag:noindex
X-PUBLISHED-TTL:PT1H
BEGIN:VTIMEZONE
TZID:Europe/Rome
BEGIN:DAYLIGHT
TZOFFSETFROM:+0100
TZOFFSETTO:+0200
TZNAME:CEST
DTSTART:20240331T010000
END:DAYLIGHT
BEGIN:STANDARD
TZOFFSETFROM:+0200
TZOFFSETTO:+0100
TZNAME:CET
DTSTART:20241027T010000
END:STANDARD
BEGIN:DAYLIGHT
TZOFFSETFROM:+0100
TZOFFSETTO:+0200
TZNAME:CEST
DTSTART:20250330T010000
END:DAYLIGHT
BEGIN:STANDARD
TZOFFSETFROM:+0200
TZOFFSETTO:+0100
TZNAME:CET
DTSTART:20251026T010000
END:STANDARD
BEGIN:DAYLIGHT
TZOFFSETFROM:+0100
TZOFFSETTO:+0200
TZNAME:CEST
DTSTART:20260329T010000
END:DAYLIGHT
BEGIN:STANDARD
TZOFFSETFROM:+0200
TZOFFSETTO:+0100
TZNAME:CET
DTSTART:20261025T010000
END:STANDARD
END:VTIMEZONE
BEGIN:VEVENT
DTSTART;TZID=Europe/Rome:20250415T090000
DTEND;TZID=Europe/Rome:20250630T133000
DTSTAMP:20260422T155137
CREATED:20250408T130306Z
LAST-MODIFIED:20250408T131341Z
UID:253102-1744707600-1751290200@bibliotecaangelica.cultura.gov.it
SUMMARY:Made in Italy. Primizie d'Italia negli antichi volumi della Biblioteca Angelica
DESCRIPTION:In occasione della Giornata Nazionale del Made in Italy il 15 aprile\, la biblioteca Angelica inaugura una mostra bibliografica nel Salone monumentale che mette in risalto un patrimonio bibliografico ricco di opere frutto dell’ingegno di grandi artisti italiani come Dante\, Petrarca e Galileo Galilei\, la maestria dei miniatori medievali\, il lavoro delle prime tipografie italiane\, libri rari e preziosi. \n  \nINAUGURAZIONE MOSTRA \nMartedì 15 aprile orario 11-16 \nVisitabile dal 16 aprile al 30 giugno 2025 negli orari di apertura al pubblico: 9-13.30
URL:https://bibliotecaangelica.cultura.gov.it/evento/made-in-italy-primizie-ditalia-negli-antichi-volumi-della-biblioteca-angelica/
LOCATION:Salone della Biblioteca\, P.zza di Sant'Agostino 8\, Roma\, Italia
CATEGORIES:Mostre
ATTACH;FMTTYPE=image/jpeg:https://bibliotecaangelica.cultura.gov.it/wp-content/uploads/2025/04/Locandina_Made-in-Italy_Loghi_page-0001.jpg
END:VEVENT
END:VCALENDAR